BEGIN:VCALENDAR
VERSION:2.0
PRODID:-//National Sailing Academy - ECPv6.15.20//NONSGML v1.0//EN
CALSCALE:GREGORIAN
METHOD:PUBLISH
X-WR-CALNAME:National Sailing Academy
X-ORIGINAL-URL:https://nationalsailingacademy.org
X-WR-CALDESC:Events for National Sailing Academy
REFRESH-INTERVAL;VALUE=DURATION:PT1H
X-Robots-Tag:noindex
X-PUBLISHED-TTL:PT1H
BEGIN:VTIMEZONE
TZID:America/Halifax
BEGIN:DAYLIGHT
TZOFFSETFROM:-0400
TZOFFSETTO:-0300
TZNAME:ADT
DTSTART:20200308T060000
END:DAYLIGHT
BEGIN:STANDARD
TZOFFSETFROM:-0300
TZOFFSETTO:-0400
TZNAME:AST
DTSTART:20201101T050000
END:STANDARD
BEGIN:DAYLIGHT
TZOFFSETFROM:-0400
TZOFFSETTO:-0300
TZNAME:ADT
DTSTART:20210314T060000
END:DAYLIGHT
BEGIN:STANDARD
TZOFFSETFROM:-0300
TZOFFSETTO:-0400
TZNAME:AST
DTSTART:20211107T050000
END:STANDARD
BEGIN:DAYLIGHT
TZOFFSETFROM:-0400
TZOFFSETTO:-0300
TZNAME:ADT
DTSTART:20220313T060000
END:DAYLIGHT
BEGIN:STANDARD
TZOFFSETFROM:-0300
TZOFFSETTO:-0400
TZNAME:AST
DTSTART:20221106T050000
END:STANDARD
BEGIN:DAYLIGHT
TZOFFSETFROM:-0400
TZOFFSETTO:-0300
TZNAME:ADT
DTSTART:20230312T060000
END:DAYLIGHT
BEGIN:STANDARD
TZOFFSETFROM:-0300
TZOFFSETTO:-0400
TZNAME:AST
DTSTART:20231105T050000
END:STANDARD
BEGIN:DAYLIGHT
TZOFFSETFROM:-0400
TZOFFSETTO:-0300
TZNAME:ADT
DTSTART:20240310T060000
END:DAYLIGHT
BEGIN:STANDARD
TZOFFSETFROM:-0300
TZOFFSETTO:-0400
TZNAME:AST
DTSTART:20241103T050000
END:STANDARD
END:VTIMEZONE
BEGIN:VTIMEZONE
TZID:UTC
BEGIN:STANDARD
TZOFFSETFROM:+0000
TZOFFSETTO:+0000
TZNAME:UTC
DTSTART:20200101T000000
END:STANDARD
END:VTIMEZONE
BEGIN:VEVENT
DTSTART;TZID=America/Halifax:20230129T090000
DTEND;TZID=America/Halifax:20230129T140000
DTSTAMP:20260421T155559
CREATED:20230110T153809Z
LAST-MODIFIED:20230110T153809Z
UID:7742-1674982800-1675000800@nationalsailingacademy.org
SUMMARY:It's Back - Our First Fun Regatta and Dock Party
DESCRIPTION:It's a new year and what better way to kick it off than with the first Fun Regatta and Dock Party of 2023! Come out on the 29th of January to have an amazing time. Invite your friends and family\, you won't regret it. \nThere will be food and drinks available for purchase. \n$25 EC - Youth \n$50-  Contribution
URL:https://nationalsailingacademy.org/event/its-back-our-first-fun-regatta-and-dock-party/
LOCATION:National Sailing Academy\, Dockyard Drive\, English Harbour\, Antigua and Barbuda
CATEGORIES:Family,Regatta
ATTACH;FMTTYPE=image/png:https://nationalsailingacademy.org/wp-content/uploads/2023/01/March-Fun-Regatta-Instagram-Post-1.png
END:VEVENT
BEGIN:VEVENT
DTSTART;TZID=America/Halifax:20221108T173000
DTEND;TZID=America/Halifax:20221108T193000
DTSTAMP:20260421T155559
CREATED:20220902T181214Z
LAST-MODIFIED:20220902T181923Z
UID:7524-1667928600-1667935800@nationalsailingacademy.org
SUMMARY:Sunset to Full Moon Kayak
DESCRIPTION:The Sunset to Full Moon Kayak is back! Join us on Tuesday\, November 8th to experience the  Beaver Moon. Only 85XCD per person! Starting at 5:30-7:30 once the weather permits. To book contact +1268 780-1345.
URL:https://nationalsailingacademy.org/event/sunset-to-full-moon-kayak-4/
LOCATION:National Sailing Academy\, Dockyard Drive\, English Harbour\, Antigua and Barbuda
CATEGORIES:Family,Kayaking
ATTACH;FMTTYPE=image/png:https://nationalsailingacademy.org/wp-content/uploads/2022/09/NovemberBlack-Minimalist-Gym-Center-Promo-Facebook-Post-1.png
ORGANIZER;CN="Watersports Team":MAILTO:info@nationalsailingacademy.org
END:VEVENT
BEGIN:VEVENT
DTSTART;TZID=America/Halifax:20221009T173000
DTEND;TZID=America/Halifax:20221009T193000
DTSTAMP:20260421T155559
CREATED:20220902T175511Z
LAST-MODIFIED:20220902T195836Z
UID:7520-1665336600-1665343800@nationalsailingacademy.org
SUMMARY:Sunset to Full Moon Kayak
DESCRIPTION:The Sunset to Full Moon Kayak is back! Join us on  Saturday\, October 8th to experience the Hunter's Moon. Only 85XCD per person! Starting at 5:30-7:30 once the weather permits. To book contact +1268 780-1345.
URL:https://nationalsailingacademy.org/event/sunset-to-full-moon-kayak-3/
LOCATION:National Sailing Academy\, Dockyard Drive\, English Harbour\, Antigua and Barbuda
CATEGORIES:Family,Kayaking
ATTACH;FMTTYPE=image/png:https://nationalsailingacademy.org/wp-content/uploads/2022/09/October-Black-Minimalist-Gym-Center-Promo-Facebook-Post-4.png
ORGANIZER;CN="Watersports Team":MAILTO:info@nationalsailingacademy.org
END:VEVENT
BEGIN:VEVENT
DTSTART;TZID=America/Halifax:20220911T093000
DTEND;TZID=America/Halifax:20220911T130000
DTSTAMP:20260421T155559
CREATED:20220903T172047Z
LAST-MODIFIED:20220905T150656Z
UID:7533-1662888600-1662901200@nationalsailingacademy.org
SUMMARY:BARTS BASH & CDC QUALIFIERS
DESCRIPTION:The National Sailing Academy and Antigua Yacht Club is pleased to announce a joint event will take place on Sunday 11th September. The race will take place following the CSA Caribbean Dinghy Qualifiers. Selection of the national team to represent Antigua in the October event in St. Maarten will be based on the best sailors in Optimist\, Laser\, RS Zest and RS Feva classes. Winners in the Feva class will race in Quests at the CDC. \nThe CDC is the annual dinghy event where class prizes and an overall team prize will be awarded to the best sailors across the region. \nBart’s Bash is a global sailing race taking place at 100’s of venues\, with 1000’s of sailors in 100’s of different classes of boat around the world. Founded in 2014\, the event was verified by Guinness World Records as ‘The Largest Sailing Race in the World. Bart’s Bash is the flagship annual event of the Andrew Simpson Foundation. They are inspired by the memory of Olympic Gold and Silver medallist Andrew ‘Bart’ Simpson MBE\, who passionately believed that everyone should have the chance to try sailing and enjoy the many benefits that it brings. \nAdults and youths who want to enter the Barts Bash should sign up with their sailing club. \nNSA students - call 780-1345 stating the boat they want to race in. All students must register on or by 12 pm on Saturday 10th September and attend the briefing at the same time at the NSA. \nAYC Students - speak to the AYC instructors and attend the briefing at 8.30am on Sunday 11th September. \nCDC qualifiers will take place with racing starting at 9.30am. Barts Bash will take place once the quailfiers finish at about 12pm. \nAll funds from entry fees will go towards supporting the costs of the team travelling to St. Maarten to compete in the CDC. \n 
URL:https://nationalsailingacademy.org/event/barts-bash-cdc-qualifiers/
LOCATION:National Sailing Academy\, Dockyard Drive\, English Harbour\, Antigua and Barbuda
ATTACH;FMTTYPE=image/png:https://nationalsailingacademy.org/wp-content/uploads/2022/09/Barts-Bash-and-CDC.png
END:VEVENT
BEGIN:VEVENT
DTSTART;TZID=America/Halifax:20220909T173000
DTEND;TZID=America/Halifax:20220909T193000
DTSTAMP:20260421T155559
CREATED:20220901T181627Z
LAST-MODIFIED:20220901T181627Z
UID:7513-1662744600-1662751800@nationalsailingacademy.org
SUMMARY:Sunset to Full Moon Kayak
DESCRIPTION:The Sunset to Full Moon Kayak is back! Join us on Friday\, September 9th to have an unforgettable experience. Only 85XCD per person! Starting at 5:30-7:30.To book contact +1268 780-1345
URL:https://nationalsailingacademy.org/event/sunset-to-full-moon-kayak-2/
LOCATION:National Sailing Academy\, Dockyard Drive\, English Harbour\, Antigua and Barbuda
CATEGORIES:Family,Kayaking
ATTACH;FMTTYPE=image/png:https://nationalsailingacademy.org/wp-content/uploads/2022/09/Copy-of-Copy-of-Black-Minimalist-Gym-Center-Promo-Facebook-Post.png
ORGANIZER;CN="Watersports Team":MAILTO:info@nationalsailingacademy.org
END:VEVENT
BEGIN:VEVENT
DTSTART;TZID=America/Halifax:20220828T110000
DTEND;TZID=America/Halifax:20220828T160000
DTSTAMP:20260421T155559
CREATED:20220810T194007Z
LAST-MODIFIED:20220825T154040Z
UID:7453-1661684400-1661702400@nationalsailingacademy.org
SUMMARY:August Fun Day
DESCRIPTION:Get ready for our August Fun Day! \nOn Sunday\, the 28th of August\, the National Sailing Academy will be having our August Fun Day. You don't want to miss it.  We have a lot of exciting activities in store for you! A Dock Party! A Regatta! &  A Treasure Hunt!  There will be prizes available to the Treasure Hunters who are dressed up in the Best Fancy Dress! \nDon't be late! They all begin at 11 am. Invite your friends and family and get regatta ready for an unforgettable time! \nThere will be Food and Drinks on Sale at the Dock Party \nLive performance by 17 61° \nFree to Spectators! \nRegatta - Adults 50 EC$  Youth 25 EC$ \nTreasure Hunt - 95$ Per Car \nSponsored by Locman Italy and Office Express
URL:https://nationalsailingacademy.org/event/august-fun-day/
LOCATION:National Sailing Academy\, Dockyard Drive\, English Harbour\, Antigua and Barbuda
CATEGORIES:Family,Regatta
ATTACH;FMTTYPE=image/png:https://nationalsailingacademy.org/wp-content/uploads/2022/08/August-Fun-Regatta-Facebook-Post-8-1.png
ORGANIZER;CN="National Sailing Acdemy":MAILTO:info@nationalsailingacademy.org
END:VEVENT
BEGIN:VEVENT
DTSTART;TZID=America/Halifax:20220416T173000
DTEND;TZID=America/Halifax:20220416T193000
DTSTAMP:20260421T155559
CREATED:20220317T194025Z
LAST-MODIFIED:20220317T194600Z
UID:7290-1650130200-1650137400@nationalsailingacademy.org
SUMMARY:Sunset to Full Moon Kayak
DESCRIPTION:This event will happen on every full moon. Give and take on the weather.
URL:https://nationalsailingacademy.org/event/sunset-to-full-moon-kayak/
LOCATION:National Sailing Academy\, Dockyard Drive\, English Harbour\, Antigua and Barbuda
CATEGORIES:Family,Kayaking
ATTACH;FMTTYPE=image/jpeg:https://nationalsailingacademy.org/wp-content/uploads/2022/03/272087953_7611644905527782_3025568073656004909_n.jpg
ORGANIZER;CN="Watersports Team":MAILTO:info@nationalsailingacademy.org
END:VEVENT
BEGIN:VEVENT
DTSTART;VALUE=DATE:20220321
DTEND;VALUE=DATE:20220322
DTSTAMP:20260421T155559
CREATED:20220317T203615Z
LAST-MODIFIED:20220317T204436Z
UID:7295-1647820800-1647907199@nationalsailingacademy.org
SUMMARY:Sunset Sail and Bubbles Tour
DESCRIPTION:
URL:https://nationalsailingacademy.org/event/sunset-sail-and-bubbles-tour/
LOCATION:National Sailing Academy\, Dockyard Drive\, English Harbour\, Antigua and Barbuda
CATEGORIES:Adventure,Sailing
ORGANIZER;CN="Watersports Team":MAILTO:info@nationalsailingacademy.org
END:VEVENT
BEGIN:VEVENT
DTSTART;TZID=America/Halifax:20220320T110000
DTEND;TZID=America/Halifax:20220320T140000
DTSTAMP:20260421T155559
CREATED:20220317T184706Z
LAST-MODIFIED:20220317T202708Z
UID:7284-1647774000-1647784800@nationalsailingacademy.org
SUMMARY:Fun Regatta
DESCRIPTION:We organize a fun regatta on the last Sunday of every month for the Kids to show their Sailing skills and the experience of dinghy racing. \nThere is a fee of $25 EC that will go back in to academy free learn to sail for school kids. \nFood and Drink are also on Sale. \nBoat Prep: \nRigging: 9am\nBriefing: 10am\nRacing and Spectating 11am-2pm \nSponsored by Locman Italy \n 
URL:https://nationalsailingacademy.org/event/fun-regatta/
LOCATION:National Sailing Academy\, Dockyard Drive\, English Harbour\, Antigua and Barbuda
CATEGORIES:Family,Regatta
ATTACH;FMTTYPE=image/png:https://nationalsailingacademy.org/wp-content/uploads/2022/03/March-Fun-Regatta-Facebook-Post.png
ORGANIZER;CN="Watersports Team":MAILTO:info@nationalsailingacademy.org
END:VEVENT
BEGIN:VEVENT
DTSTART;TZID=America/Halifax:20220319T160000
DTEND;TZID=America/Halifax:20220319T170000
DTSTAMP:20260421T155559
CREATED:20220317T185419Z
LAST-MODIFIED:20220317T185419Z
UID:7287-1647705600-1647709200@nationalsailingacademy.org
SUMMARY:Women on Water (WOW)
DESCRIPTION:Every Saturday
URL:https://nationalsailingacademy.org/event/women-on-water-wow/
LOCATION:National Sailing Academy\, Dockyard Drive\, English Harbour\, Antigua and Barbuda
CATEGORIES:Family,Women
ATTACH;FMTTYPE=image/jpeg:https://nationalsailingacademy.org/wp-content/uploads/2022/03/WhatsApp-Image-2022-03-08-at-2.44.41-PM.jpeg
ORGANIZER;CN="Watersports Team":MAILTO:info@nationalsailingacademy.org
END:VEVENT
BEGIN:VEVENT
DTSTART;VALUE=DATE:20211229
DTEND;VALUE=DATE:20211231
DTSTAMP:20260421T155559
CREATED:20211221T140148Z
LAST-MODIFIED:20211221T141657Z
UID:7136-1640736000-1640908799@nationalsailingacademy.org
SUMMARY:Multihull Learn to Sail Course
DESCRIPTION:Available on each date for 8 hours each day
URL:https://nationalsailingacademy.org/event/multihull-learn-to-sail-course/
END:VEVENT
BEGIN:VEVENT
DTSTART;VALUE=DATE:20211229
DTEND;VALUE=DATE:20211231
DTSTAMP:20260421T155559
CREATED:20211221T135939Z
LAST-MODIFIED:20211221T143033Z
UID:7134-1640736000-1640908799@nationalsailingacademy.org
SUMMARY:RYA Dinghy Learn to Sail
DESCRIPTION:Available on each date for 8 hours each day. \nWeekly lesson 4 hour per day for 4 days Mon-Thurs
URL:https://nationalsailingacademy.org/event/rya-dinghy-learn-to-sail/
END:VEVENT
BEGIN:VEVENT
DTSTART;TZID=America/Halifax:20211031T090000
DTEND;TZID=America/Halifax:20211031T150000
DTSTAMP:20260421T155559
CREATED:20211027T175852Z
LAST-MODIFIED:20211027T180631Z
UID:7040-1635670800-1635692400@nationalsailingacademy.org
SUMMARY:Sailability Halloween Treasure Hunt
DESCRIPTION:The Halloween Treasure Hunt takes place on Sunday 31st October\, 2021. Its a really fun two hours involving your team (family and friends) to follow clues and instructions around the route starting and finishing back at the National Sailing Academy in English Harbour. \n\nTo Register click this link www.nationalsailingacademy.org/treasurehunt.\nYou have to choose a time slot.\nWe will send you the payment link\nArrive in the 15 minute slot you book on 31st October\, 2021\, at the National Sailing Academy.\nCome in through the gates and collect your form.\nStart the treasure hunt\nFinish the quiz bu arriving back at the NSA and we will then let you know via email who has won the quiz. Prizes will be awarded for the best Halloween Costumes\, although not essential\, we will reward the best.\n\nWe are delighted to have prizes courtesy the Cork and Basket to include EC$200 voucher\, EC$150 voucher\, EC$150 gift basket and 4 Carib beers along with some other fun prizes. \nPlease ensure you adhere to COVID-19 protocols - wear your mask\, have your hand sanitizer with you and do not get out of your car. All funds raised will contribute to continuing the Sailability Antigua sailing programme delivering free sailing lessons and experiences to the differently-abled adults and children of Antigua and Barbuda.
URL:https://nationalsailingacademy.org/event/sailability-halloween-treasure-hunt/
CATEGORIES:Family
ATTACH;FMTTYPE=image/jpeg:https://nationalsailingacademy.org/wp-content/uploads/2021/10/flier-new.jpg
ORGANIZER;CN="National Sailing Acdemy":MAILTO:info@nationalsailingacademy.org
END:VEVENT
BEGIN:VEVENT
DTSTART;TZID=America/Halifax:20211020T200000
DTEND;TZID=America/Halifax:20211020T210000
DTSTAMP:20260421T155559
CREATED:20211014T183526Z
LAST-MODIFIED:20211014T183526Z
UID:7005-1634760000-1634763600@nationalsailingacademy.org
SUMMARY:Full Moon Meditation
DESCRIPTION:Join Beautiful Blue Butterfly for a Full Moon Meditation and Bonfire. Relax and soak in the star filled and moonlit sky and be totally in the moment. \nBring a blanket and cushion added comfort and relax surrounded by candles while Misty guides you through your meditation. The perfect salute to the Full Moon.
URL:https://nationalsailingacademy.org/event/full-moon-meditation/
ATTACH;FMTTYPE=image/jpeg:https://nationalsailingacademy.org/wp-content/uploads/2021/10/october-2021.jpg
END:VEVENT
BEGIN:VEVENT
DTSTART;TZID=America/Halifax:20211019T173000
DTEND;TZID=America/Halifax:20211019T193000
DTSTAMP:20260421T155559
CREATED:20210829T042745Z
LAST-MODIFIED:20211014T183922Z
UID:6861-1634664600-1634671800@nationalsailingacademy.org
SUMMARY:Sunset to Moonlight Kayak
DESCRIPTION:Revel in the beauty of kayaking into the Sunset and catch the Full Moon on Tuesday\, October 19\, 2021 and Wednesday\, October 20\, 2021  starting at 5:30pm (arrive 5.15pm). \nWe will head across the harbour (direction dependent upon wind conditions) and enjoy the sights of the harbour. A safety boat will be with the group to provide additional light if needed and support. Single and double kayaks are available. As we begin the return paddle the full moon should be in evidence . \nIn order to comply with Covid-19 protocols please wear a mask. We will ask you to sanitise your hands on arrival and ensure social distancing. We suggest wearing a long sleeve top as it may be chilly after dark. We will be off the water by 7.30pm to ensure everyone can be home before curfew. \nTo book please fill in the consent form here: https://nationalsailingacademy.org/registration/ \nIf you are happy to pay by credit card please fill in here: https://nationalsailingacademy.org/payments/
URL:https://nationalsailingacademy.org/event/sunset-to-moonlight-kayak-2/
LOCATION:National Sailing Academy\, Dockyard Drive\, English Harbour\, Antigua and Barbuda
CATEGORIES:Kayaking
ATTACH;FMTTYPE=image/jpeg:https://nationalsailingacademy.org/wp-content/uploads/2021/08/IMG_8082.jpg
ORGANIZER;CN="Watersports Team":MAILTO:info@nationalsailingacademy.org
END:VEVENT
BEGIN:VEVENT
DTSTART;VALUE=DATE:20210912
DTEND;VALUE=DATE:20210913
DTSTAMP:20260421T155559
CREATED:20190110T160053Z
LAST-MODIFIED:20210829T041943Z
UID:6682-1631404800-1631491199@nationalsailingacademy.org
SUMMARY:Bart's Bash
DESCRIPTION:
URL:https://nationalsailingacademy.org/event/snow-boarding/
LOCATION:National Sailing Academy\, Dockyard Drive\, English Harbour\, Antigua and Barbuda
CATEGORIES:Regatta
ATTACH;FMTTYPE=image/png:https://nationalsailingacademy.org/wp-content/uploads/2019/01/poster-save-the-date.png
ORGANIZER;CN="Watersports Team":MAILTO:info@nationalsailingacademy.org
END:VEVENT
END:VCALENDAR